BEGIN:VCALENDAR
VERSION:2.0
PRODID:icalendar-ruby
CALSCALE:GREGORIAN
METHOD:PUBLISH
BEGIN:VEVENT
DTSTAMP:20260424T002135Z
UID:37-474775@outreachministriesinc.org
DTSTART;VALUE=DATE:20260426
DTEND;VALUE=DATE:20260426
CLASS:PUBLIC
CREATED:20260423T141745
DESCRIPTION:
LAST-MODIFIED:20260423T141745
LOCATION:
SUMMARY:Healing Services 
URL;VALUE=URI:https://outreachministriesinc.org/events/healing-services/202
 6-04-26
ATTACH;FILENAME=Healing.png;FMTTYPE=image/png:https://dq5pwpg1q8ru0.cloudfr
 ont.net/2026/04/23/21/10/13/789f3c55-94d6-4d9d-9443-6e9ce52e325e/Healing.p
 ng
END:VEVENT
END:VCALENDAR
